BEGIN:VCALENDAR
VERSION:2.0
PRODID:LFV Website-Kit
METHOD:PUBLISH
BEGIN:VEVENT
UID:lfv-5f1fd83d-daaf-460c-8722-77936164f119
LOCATION:
SUMMARY:150 Jähriges Gründungsfest der FF Obermedlingen + 150 Jähriges Gründungsfest der FF Untermedlingen
DESCRIPTION:Termin Link: http://schwenningen.feuerwehren.bayern/termine/150-jahriges-grundungsfest-der-ff-obermedlingen-150-jahriges-grundungsfest-der-ff-untermedlingen/
URL:http://schwenningen.feuerwehren.bayern/termine/150-jahriges-grundungsfest-der-ff-obermedlingen-150-jahriges-grundungsfest-der-ff-untermedlingen/
CLASS:PRIVATE
DTSTART;TZID=Europe/Berlin:20260618T000000
DTEND;TZID=Europe/Berlin:20260621T000000
DTSTAMP:20260421T120528Z
END:VEVENT
END:VCALENDAR