BEGIN:VCALENDAR
VERSION:2.0
PRODID:LFV Website-Kit
METHOD:PUBLISH
BEGIN:VEVENT
UID:lfv-8eae7ea2-81c3-49d3-9eff-4eeccd7654dc
LOCATION:
SUMMARY:150 Jähriges Gründungsfest FF Burghagel
DESCRIPTION:Termin Link: http://schwenningen.feuerwehren.bayern/termine/150-jahriges-grundungsfest-ff-burghagel/
URL:http://schwenningen.feuerwehren.bayern/termine/150-jahriges-grundungsfest-ff-burghagel/
CLASS:PRIVATE
DTSTART;TZID=Europe/Berlin:20260522T180000
DTEND;TZID=Europe/Berlin:20260525T180000
DTSTAMP:20260421T115904Z
END:VEVENT
END:VCALENDAR