BEGIN:VCALENDAR
VERSION:2.0
PRODID:LFV Website-Kit
METHOD:PUBLISH
BEGIN:VEVENT
UID:lfv-81f14369-2604-45c9-bce8-a3e33a6f4fca
LOCATION:
SUMMARY:150 Jähriges Gründungsfest FF Deisenhofen
DESCRIPTION:Termin Link: http://schwenningen.feuerwehren.bayern/termine/150-jahriges-grundungsfest-ff-deisenhofen/
URL:http://schwenningen.feuerwehren.bayern/termine/150-jahriges-grundungsfest-ff-deisenhofen/
CLASS:PRIVATE
DTSTART;TZID=Europe/Berlin:20260516T180000
DTEND;TZID=Europe/Berlin:20260517T180000
DTSTAMP:20260421T120357Z
END:VEVENT
END:VCALENDAR