BEGIN:VCALENDAR
VERSION:2.0
PRODID:LFV Website-Kit
METHOD:PUBLISH
BEGIN:VEVENT
UID:lfv-af210d04-7d28-4c8a-bdb0-f2725b6dbe68
LOCATION:
SUMMARY:150 Jähriges Gründungsfest FF Kicklingen
DESCRIPTION:Termin Link: http://schwenningen.feuerwehren.bayern/termine/150-jahriges-grundungsfest-ff-kicklingen/
URL:http://schwenningen.feuerwehren.bayern/termine/150-jahriges-grundungsfest-ff-kicklingen/
CLASS:PRIVATE
DTSTART;TZID=Europe/Berlin:20260508T180000
DTEND;TZID=Europe/Berlin:20260510T180000
DTSTAMP:20260421T120032Z
END:VEVENT
END:VCALENDAR