BEGIN:VCALENDAR
VERSION:2.0
PRODID:LFV Website-Kit
METHOD:PUBLISH
BEGIN:VEVENT
UID:lfv-79c269e3-503f-4f33-afb1-515f87e6f906
LOCATION:
SUMMARY:150 Jähriges Gründungsfest FF Oppertshofen
DESCRIPTION:Termin Link: http://schwenningen.feuerwehren.bayern/termine/150-jahriges-grundungsfest-ff-oppertshofen/
URL:http://schwenningen.feuerwehren.bayern/termine/150-jahriges-grundungsfest-ff-oppertshofen/
CLASS:PRIVATE
DTSTART;TZID=Europe/Berlin:20260514T000000
DTEND;TZID=Europe/Berlin:20260517T000000
DTSTAMP:20260421T120326Z
END:VEVENT
END:VCALENDAR