BEGIN:VCALENDAR
VERSION:2.0
PRODID:LFV Website-Kit
METHOD:PUBLISH
BEGIN:VEVENT
UID:lfv-f8bddaf5-5a5e-4bef-983d-6dcd38f4bc7c
LOCATION:
SUMMARY:150 Jähriges Gründungsfest FF Schretzheim
DESCRIPTION:Termin Link: http://schwenningen.feuerwehren.bayern/termine/150-jahriges-grundungsfest-ff-schretzheim/
URL:http://schwenningen.feuerwehren.bayern/termine/150-jahriges-grundungsfest-ff-schretzheim/
CLASS:PRIVATE
DTSTART;TZID=Europe/Berlin:20260703T000000
DTEND;TZID=Europe/Berlin:20260705T000000
DTSTAMP:20260421T131957Z
END:VEVENT
END:VCALENDAR