BEGIN:VCALENDAR
VERSION:2.0
PRODID:LFV Website-Kit
METHOD:PUBLISH
BEGIN:VEVENT
UID:lfv-ffa1f596-cf18-488a-95f4-364a97b8e868
LOCATION:
SUMMARY:150 Jähriges Gründungsfest FF Untermagerbein
DESCRIPTION:Termin Link: http://schwenningen.feuerwehren.bayern/termine/150-jahriges-grundungsfest-ff-untermagerbein/
URL:http://schwenningen.feuerwehren.bayern/termine/150-jahriges-grundungsfest-ff-untermagerbein/
CLASS:PRIVATE
DTSTART;TZID=Europe/Berlin:20260710T000000
DTEND;TZID=Europe/Berlin:20260712T000000
DTSTAMP:20260421T120032Z
END:VEVENT
END:VCALENDAR