BEGIN:VCALENDAR
VERSION:2.0
PRODID:LFV Website-Kit
METHOD:PUBLISH
BEGIN:VEVENT
UID:lfv-e8fb4c4d-6895-494f-a730-ad9b7bb07f52
LOCATION:
SUMMARY:150-jähriges Gründungsfest FF Weisingen
DESCRIPTION:Termin Link: http://schwenningen.feuerwehren.bayern/termine/150-jahriges-grundungsfest-ff-weisingen/
URL:http://schwenningen.feuerwehren.bayern/termine/150-jahriges-grundungsfest-ff-weisingen/
CLASS:PRIVATE
DTSTART;TZID=Europe/Berlin:20260611T000000
DTEND;TZID=Europe/Berlin:20260614T000000
DTSTAMP:20260421T120238Z
END:VEVENT
END:VCALENDAR