BEGIN:VCALENDAR
VERSION:2.0
PRODID:LFV Website-Kit
METHOD:PUBLISH
BEGIN:VEVENT
UID:lfv-222209ec-be22-43fb-8ba3-a93f626c22e0
LOCATION:
SUMMARY:150 Järiges Gründungsfest FF Hohenreichen
DESCRIPTION:Termin Link: http://schwenningen.feuerwehren.bayern/termine/150-jariges-grundungsfest-ff-hohenreichen/
URL:http://schwenningen.feuerwehren.bayern/termine/150-jariges-grundungsfest-ff-hohenreichen/
CLASS:PRIVATE
DTSTART;TZID=Europe/Berlin:20260710T000000
DTEND;TZID=Europe/Berlin:20260712T000000
DTSTAMP:20260421T115951Z
END:VEVENT
END:VCALENDAR