BEGIN:VCALENDAR
VERSION:2.0
PRODID:LFV Website-Kit
METHOD:PUBLISH
BEGIN:VEVENT
UID:lfv-f2f7827b-1f3e-4fb6-a385-44153258aef9
LOCATION:
SUMMARY:450 Jahre FF Bissingen - Hochstein- Unterbissingen
DESCRIPTION:Termin Link: http://schwenningen.feuerwehren.bayern/termine/450-jahre-ff-bissingen-hochstein-unterbissingen/
URL:http://schwenningen.feuerwehren.bayern/termine/450-jahre-ff-bissingen-hochstein-unterbissingen/
CLASS:PRIVATE
DTSTART;TZID=Europe/Berlin:20260717T000000
DTEND;TZID=Europe/Berlin:20260720T000000
DTSTAMP:20260421T120201Z
END:VEVENT
END:VCALENDAR