BEGIN:VCALENDAR
VERSION:2.0
PRODID:LFV Website-Kit
METHOD:PUBLISH
BEGIN:VEVENT
UID:lfv-942fbf0c-8d1f-4c86-a477-5a6dd5ad38e3
LOCATION:
SUMMARY:Adventsfenster FF Schwenningen
DESCRIPTION:Die FF Schwenningen freut sich auf alle Bürger zu weihnachtlicher Stimmung.\n\nTermin Link: http://schwenningen.feuerwehren.bayern/termine/adventsfenster-ff-schwenningen/
URL:http://schwenningen.feuerwehren.bayern/termine/adventsfenster-ff-schwenningen/
CLASS:PRIVATE
DTSTART;TZID=Europe/Berlin:20261204T170000
DTEND;TZID=Europe/Berlin:20261204T180000
DTSTAMP:20260421T115045Z
END:VEVENT
END:VCALENDAR