BEGIN:VCALENDAR
VERSION:2.0
PRODID:LFV Website-Kit
METHOD:PUBLISH
BEGIN:VEVENT
UID:lfv-328347a2-bb0a-4fec-83ea-e2614b77838e
LOCATION:
SUMMARY:Adventsmarkt am Rathaus
DESCRIPTION:Termin Link: http://schwenningen.feuerwehren.bayern/termine/adventsmarkt-am-rathaus/
URL:http://schwenningen.feuerwehren.bayern/termine/adventsmarkt-am-rathaus/
CLASS:PRIVATE
DTSTART;TZID=Europe/Berlin:20261205T170000
DTEND;TZID=Europe/Berlin:20261205T180000
DTSTAMP:20260421T115837Z
END:VEVENT
END:VCALENDAR