BEGIN:VCALENDAR
VERSION:2.0
PRODID:LFV Website-Kit
METHOD:PUBLISH
BEGIN:VEVENT
UID:lfv-856e5212-f50f-49b4-8dc4-4ce7e1e12126
LOCATION:
SUMMARY:CSA Übung in Höchstädt
DESCRIPTION:Termin Link: http://schwenningen.feuerwehren.bayern/termine/csa-ubung-in-hochstadt/
URL:http://schwenningen.feuerwehren.bayern/termine/csa-ubung-in-hochstadt/
CLASS:PRIVATE
DTSTART;TZID=Europe/Berlin:20261105T190000
DTEND;TZID=Europe/Berlin:20261105T200000
DTSTAMP:20260421T113439Z
END:VEVENT
END:VCALENDAR