BEGIN:VCALENDAR
VERSION:2.0
PRODID:LFV Website-Kit
METHOD:PUBLISH
BEGIN:VEVENT
UID:lfv-7255736a-a167-4f5e-9827-5f1c65cd69ff
LOCATION:
SUMMARY:Fischerfest Gremheim
DESCRIPTION:Termin Link: http://schwenningen.feuerwehren.bayern/termine/fischerfest-gremheim/
URL:http://schwenningen.feuerwehren.bayern/termine/fischerfest-gremheim/
CLASS:PRIVATE
DTSTART;TZID=Europe/Berlin:20260725T170000
DTEND;TZID=Europe/Berlin:20260725T180000
DTSTAMP:20260421T115718Z
END:VEVENT
END:VCALENDAR