BEGIN:VCALENDAR
VERSION:2.0
PRODID:LFV Website-Kit
METHOD:PUBLISH
BEGIN:VEVENT
UID:lfv-d0cc9892-7ee7-41b3-93a7-f04c2c2a35ea
LOCATION:
SUMMARY:Florianstag 2026
DESCRIPTION:Termin Link: http://schwenningen.feuerwehren.bayern/termine/florianstag-2026/
URL:http://schwenningen.feuerwehren.bayern/termine/florianstag-2026/
CLASS:PRIVATE
DTSTART;TZID=Europe/Berlin:20260505T190000
DTEND;TZID=Europe/Berlin:20260505T200000
DTSTAMP:20260421T115709Z
END:VEVENT
END:VCALENDAR