BEGIN:VCALENDAR
VERSION:2.0
PRODID:LFV Website-Kit
METHOD:PUBLISH
BEGIN:VEVENT
UID:lfv-6b0b11e0-1d13-4e17-997e-fc80eca595e8
LOCATION:
SUMMARY:Fronleichnamsprozession 2026
DESCRIPTION:Sonntagsgottesdienst 10:30 mit anschließender Fronleichnamsprozession\n\nTermin Link: http://schwenningen.feuerwehren.bayern/termine/fronleichnamsprozession-2026/
URL:http://schwenningen.feuerwehren.bayern/termine/fronleichnamsprozession-2026/
CLASS:PRIVATE
DTSTART;TZID=Europe/Berlin:20260531T103000
DTEND;TZID=Europe/Berlin:20260531T113000
DTSTAMP:20260421T115749Z
END:VEVENT
END:VCALENDAR