BEGIN:VCALENDAR
VERSION:2.0
PRODID:LFV Website-Kit
METHOD:PUBLISH
BEGIN:VEVENT
UID:lfv-509934f4-2a60-49f7-8aa4-e496a431d8c3
LOCATION:
SUMMARY:Funkübung Schwennenbach
DESCRIPTION:Termin Link: http://schwenningen.feuerwehren.bayern/termine/funkubung-schwennenbach/
URL:http://schwenningen.feuerwehren.bayern/termine/funkubung-schwennenbach/
CLASS:PRIVATE
DTSTART;TZID=Europe/Berlin:20260507T200000
DTEND;TZID=Europe/Berlin:20260507T210000
DTSTAMP:20260421T113250Z
END:VEVENT
END:VCALENDAR