BEGIN:VCALENDAR
VERSION:2.0
PRODID:LFV Website-Kit
METHOD:PUBLISH
BEGIN:VEVENT
UID:lfv-ebc6f27b-9164-42b5-a5fa-d041b371871a
LOCATION:
SUMMARY:Funkübung Unterliezheim
DESCRIPTION:Termin Link: http://schwenningen.feuerwehren.bayern/termine/funkubung-unterliezheim/
URL:http://schwenningen.feuerwehren.bayern/termine/funkubung-unterliezheim/
CLASS:PRIVATE
DTSTART;TZID=Europe/Berlin:20260611T200000
DTEND;TZID=Europe/Berlin:20260611T210000
DTSTAMP:20260421T113321Z
END:VEVENT
END:VCALENDAR