BEGIN:VCALENDAR
VERSION:2.0
PRODID:LFV Website-Kit
METHOD:PUBLISH
BEGIN:VEVENT
UID:lfv-d46d844d-4541-42a1-9c5a-cd812f007219
LOCATION:
SUMMARY:Generalversammlung FW Schwenningen mit Neuwahlen im Schützenheim
DESCRIPTION:Termin Link: http://schwenningen.feuerwehren.bayern/termine/generalversammlung-fw-schwenningen-mit-neuwahlen-im-schutzenheim/
URL:http://schwenningen.feuerwehren.bayern/termine/generalversammlung-fw-schwenningen-mit-neuwahlen-im-schutzenheim/
CLASS:PRIVATE
DTSTART;TZID=Europe/Berlin:20261010T193000
DTEND;TZID=Europe/Berlin:20261010T203000
DTSTAMP:20260421T120407Z
END:VEVENT
END:VCALENDAR