BEGIN:VCALENDAR
VERSION:2.0
PRODID:LFV Website-Kit
METHOD:PUBLISH
BEGIN:VEVENT
UID:lfv-5511dc28-f7b9-487a-b0b9-5c7e5389c6cd
LOCATION:
SUMMARY:Generalversammlung
DESCRIPTION:Termin Link: http://schwenningen.feuerwehren.bayern/termine/generalversammlung/
URL:http://schwenningen.feuerwehren.bayern/termine/generalversammlung/
CLASS:PRIVATE
DTSTART;TZID=Europe/Berlin:20261010T190000
DTEND;TZID=Europe/Berlin:20261010T200000
DTSTAMP:20260421T113235Z
END:VEVENT
END:VCALENDAR