BEGIN:VCALENDAR
VERSION:2.0
PRODID:LFV Website-Kit
METHOD:PUBLISH
BEGIN:VEVENT
UID:lfv-498aabe7-16a9-4beb-bfe6-a4b0d5b98645
LOCATION:
SUMMARY:Inspektion
DESCRIPTION:Termin Link: http://schwenningen.feuerwehren.bayern/termine/inspektion/
URL:http://schwenningen.feuerwehren.bayern/termine/inspektion/
CLASS:PRIVATE
DTSTART;TZID=Europe/Berlin:20260422T180000
DTEND;TZID=Europe/Berlin:20260422T190000
DTSTAMP:20260421T113234Z
END:VEVENT
END:VCALENDAR