BEGIN:VCALENDAR
VERSION:2.0
PRODID:LFV Website-Kit
METHOD:PUBLISH
BEGIN:VEVENT
UID:lfv-2cc144f1-1959-4afd-b675-06d4cb8a4f22
LOCATION:
SUMMARY:Kameradschaftsabend & Erste Hilfe
DESCRIPTION:Nach einer kruzen Auffrischung der Erste Hilfe Maßnahmen, findet unser jährlicher Kameradschaftsabend statt. Für das leibliche Wohl ist gesorgt.\n\nTermin Link: http://schwenningen.feuerwehren.bayern/termine/kameradschaftsabend-erste-hilfe/
URL:http://schwenningen.feuerwehren.bayern/termine/kameradschaftsabend-erste-hilfe/
CLASS:PRIVATE
DTSTART;TZID=Europe/Berlin:20261121T193000
DTEND;TZID=Europe/Berlin:20261121T203000
DTSTAMP:20260421T113321Z
END:VEVENT
END:VCALENDAR