BEGIN:VCALENDAR
VERSION:2.0
PRODID:LFV Website-Kit
METHOD:PUBLISH
BEGIN:VEVENT
UID:lfv-5aecfa34-5b45-4bef-8645-483e9185f69b
LOCATION:
SUMMARY:Oktoberfest der Schwenninger Musikanten in der Treidelhalle
DESCRIPTION:Termin Link: http://schwenningen.feuerwehren.bayern/termine/oktoberfest-der-schwenninger-musikanten-in-der-treidelhalle/
URL:http://schwenningen.feuerwehren.bayern/termine/oktoberfest-der-schwenninger-musikanten-in-der-treidelhalle/
CLASS:PRIVATE
DTSTART;TZID=Europe/Berlin:20261017T190000
DTEND;TZID=Europe/Berlin:20261017T200000
DTSTAMP:20260421T120510Z
END:VEVENT
END:VCALENDAR