BEGIN:VCALENDAR
VERSION:2.0
PRODID:LFV Website-Kit
METHOD:PUBLISH
BEGIN:VEVENT
UID:lfv-41017d0e-dd3c-4b4e-b45c-c0e2ce760557
LOCATION:
SUMMARY:Patenbitten FF Gremheim
DESCRIPTION:Termin Link: http://schwenningen.feuerwehren.bayern/termine/patenbitten-ff-gremheim-1/
URL:http://schwenningen.feuerwehren.bayern/termine/patenbitten-ff-gremheim-1/
CLASS:PRIVATE
DTSTART;TZID=Europe/Berlin:20260704T170000
DTEND;TZID=Europe/Berlin:20260704T180000
DTSTAMP:20260421T113439Z
END:VEVENT
END:VCALENDAR