BEGIN:VCALENDAR
VERSION:2.0
PRODID:LFV Website-Kit
METHOD:PUBLISH
BEGIN:VEVENT
UID:lfv-05de0ec2-e3dd-4f44-a672-e3f68cc664c9
LOCATION:
SUMMARY:Schlachtfest Donaubootsfahrer in der Treidelhalle
DESCRIPTION:Termin Link: http://schwenningen.feuerwehren.bayern/termine/schlachtfest-donaubootsfahrer-in-der-treidelhalle/
URL:http://schwenningen.feuerwehren.bayern/termine/schlachtfest-donaubootsfahrer-in-der-treidelhalle/
CLASS:PRIVATE
DTSTART;TZID=Europe/Berlin:20261003T090000
DTEND;TZID=Europe/Berlin:20261003T100000
DTSTAMP:20260421T120458Z
END:VEVENT
END:VCALENDAR