BEGIN:VCALENDAR
VERSION:2.0
PRODID:LFV Website-Kit
METHOD:PUBLISH
BEGIN:VEVENT
UID:lfv-2a727f83-a5ba-4b93-8ce0-cce66c650384
LOCATION:
SUMMARY:Übung FF Schwenningen
DESCRIPTION:Termin Link: http://schwenningen.feuerwehren.bayern/termine/ubung-ff-schwenningen-1/
URL:http://schwenningen.feuerwehren.bayern/termine/ubung-ff-schwenningen-1/
CLASS:PRIVATE
DTSTART;TZID=Europe/Berlin:20260709T193000
DTEND;TZID=Europe/Berlin:20260709T203000
DTSTAMP:20260421T113423Z
END:VEVENT
END:VCALENDAR