BEGIN:VCALENDAR
VERSION:2.0
PRODID:LFV Website-Kit
METHOD:PUBLISH
BEGIN:VEVENT
UID:lfv-79be5032-70fa-43df-aa6f-09860f8450b2
LOCATION:
SUMMARY:Übung FF Schwenningen
DESCRIPTION:Termin Link: http://schwenningen.feuerwehren.bayern/termine/ubung-ff-schwenningen-2/
URL:http://schwenningen.feuerwehren.bayern/termine/ubung-ff-schwenningen-2/
CLASS:PRIVATE
DTSTART;TZID=Europe/Berlin:20260723T193000
DTEND;TZID=Europe/Berlin:20260723T203000
DTSTAMP:20260421T113250Z
END:VEVENT
END:VCALENDAR