BEGIN:VCALENDAR
VERSION:2.0
PRODID:LFV Website-Kit
METHOD:PUBLISH
BEGIN:VEVENT
UID:lfv-4f7512b9-1a74-4fb9-9879-76ddd93e0f4b
LOCATION:
SUMMARY:Übung FF Schwenningen
DESCRIPTION:Termin Link: http://schwenningen.feuerwehren.bayern/termine/ubung-ff-schwenningen-3/
URL:http://schwenningen.feuerwehren.bayern/termine/ubung-ff-schwenningen-3/
CLASS:PRIVATE
DTSTART;TZID=Europe/Berlin:20260804T193000
DTEND;TZID=Europe/Berlin:20260804T203000
DTSTAMP:20260421T113331Z
END:VEVENT
END:VCALENDAR