BEGIN:VCALENDAR
VERSION:2.0
PRODID:LFV Website-Kit
METHOD:PUBLISH
BEGIN:VEVENT
UID:lfv-f4b6f1da-a57e-4147-8c8a-796c7ab5d336
LOCATION:
SUMMARY:Übung FF Schwenningen
DESCRIPTION:Termin Link: http://schwenningen.feuerwehren.bayern/termine/ubung-ff-schwenningen-4/
URL:http://schwenningen.feuerwehren.bayern/termine/ubung-ff-schwenningen-4/
CLASS:PRIVATE
DTSTART;TZID=Europe/Berlin:20260825T193000
DTEND;TZID=Europe/Berlin:20260825T203000
DTSTAMP:20260421T113331Z
END:VEVENT
END:VCALENDAR