BEGIN:VCALENDAR
VERSION:2.0
PRODID:LFV Website-Kit
METHOD:PUBLISH
BEGIN:VEVENT
UID:lfv-7db0ceb5-25b6-4acf-bf06-8b7db912bf3e
LOCATION:
SUMMARY:Übung FF Schwenningen
DESCRIPTION:Termin Link: http://schwenningen.feuerwehren.bayern/termine/ubung-ff-schwenningen-5/
URL:http://schwenningen.feuerwehren.bayern/termine/ubung-ff-schwenningen-5/
CLASS:PRIVATE
DTSTART;TZID=Europe/Berlin:20260910T193000
DTEND;TZID=Europe/Berlin:20260910T203000
DTSTAMP:20260421T113423Z
END:VEVENT
END:VCALENDAR