BEGIN:VCALENDAR
VERSION:2.0
PRODID:LFV Website-Kit
METHOD:PUBLISH
BEGIN:VEVENT
UID:lfv-5a20e867-03f6-4e09-922f-8cc6f1424c40
LOCATION:
SUMMARY:Übung FF Schwenningen
DESCRIPTION:Termin Link: http://schwenningen.feuerwehren.bayern/termine/ubung-ff-schwenningen/
URL:http://schwenningen.feuerwehren.bayern/termine/ubung-ff-schwenningen/
CLASS:PRIVATE
DTSTART;TZID=Europe/Berlin:20260625T193000
DTEND;TZID=Europe/Berlin:20260625T203000
DTSTAMP:20260421T113250Z
END:VEVENT
END:VCALENDAR