BEGIN:VCALENDAR
VERSION:2.0
PRODID:LFV Website-Kit
METHOD:PUBLISH
BEGIN:VEVENT
UID:lfv-9da1ccdb-46d4-411a-81af-c94ce7bc4d68
LOCATION:
SUMMARY:Übung Inspektion
DESCRIPTION:Termin Link: http://schwenningen.feuerwehren.bayern/termine/ubung-inspektion-3/
URL:http://schwenningen.feuerwehren.bayern/termine/ubung-inspektion-3/
CLASS:PRIVATE
DTSTART;TZID=Europe/Berlin:20260421T193000
DTEND;TZID=Europe/Berlin:20260421T203000
DTSTAMP:20260421T113234Z
END:VEVENT
END:VCALENDAR