BEGIN:VCALENDAR
VERSION:2.0
PRODID:LFV Website-Kit
METHOD:PUBLISH
BEGIN:VEVENT
UID:lfv-57444fc3-5262-49f4-9e01-3da41faa91ad
LOCATION:
SUMMARY:Weinfest in der Treidelhalle
DESCRIPTION:Termin Link: http://schwenningen.feuerwehren.bayern/termine/weinfest-in-der-treidelhalle/
URL:http://schwenningen.feuerwehren.bayern/termine/weinfest-in-der-treidelhalle/
CLASS:PRIVATE
DTSTART;TZID=Europe/Berlin:20261024T190000
DTEND;TZID=Europe/Berlin:20261024T200000
DTSTAMP:20260421T115904Z
END:VEVENT
END:VCALENDAR