BEGIN:VCALENDAR
VERSION:2.0
PRODID:LFV Website-Kit
METHOD:PUBLISH
BEGIN:VEVENT
UID:lfv-eee92d10-e905-4a2f-8b92-43ee5f82cdb9
LOCATION:
SUMMARY:Zeltaufbau 150 Jahre FF Schwenningen
DESCRIPTION:Termin Link: http://schwenningen.feuerwehren.bayern/termine/zeltaufbau-150-jahre-ff-schwenningen/
URL:http://schwenningen.feuerwehren.bayern/termine/zeltaufbau-150-jahre-ff-schwenningen/
CLASS:PRIVATE
DTSTART;TZID=Europe/Berlin:20260522T080000
DTEND;TZID=Europe/Berlin:20260523T200000
DTSTAMP:20260421T113516Z
END:VEVENT
END:VCALENDAR